BEGIN:VCALENDAR
VERSION:2.0
PRODID:-//hacksw/handcal//NONSGML v1.0//EN
BEGIN:VEVENT
SUMMARY:DEPARTEMENTAUX BE MI
UID:d3258b18-0770-4457-829a-5cf924c7cc01
DTSTART:20260425T220000Z
DTEND:20260426T220000Z
LOCATION:Localisation STADE RENE FOISY 8 RUE DES SPORTS 61300 L'AIGLE
CATEGORIES:Sportif
STATUS:
URL;VALUE=URI:https://www.flers-athletic-club.com/evenements/2026/04/26/departementaux-be-mi-2428946
END:VEVENT
END:VCALENDAR
