BEGIN:VCALENDAR
VERSION:2.0
PRODID:-//hacksw/handcal//NONSGML v1.0//EN
BEGIN:VEVENT
SUMMARY:Regionaux Benjamins a Mondeville 14/03/2026
UID:76802d25-2b5b-417b-a071-8a7c1066d6e6
DTSTART:20260313T230000Z
DTEND:20260314T230000Z
LOCATION:Localisation RUE MAURICE LEGAL 14120 MONDEVILLE
CATEGORIES:Sportif
STATUS:
URL;VALUE=URI:https://www.flers-athletic-club.com/evenements/2026/03/14/regionaux-benjamins-a-mondeville-14032026-2415288
END:VEVENT
END:VCALENDAR
